BEGIN:VCALENDAR
VERSION:2.0
PRODID:-//sharevent//NONSGML v1.0//EN
CALSCALE:GREGORIAN
BEGIN:VEVENT
SUMMARY:Poste Italiane: costruire un Lakehouse utilizzando Cloudera e Iceberg
DTSTART:20250519T123000Z
DTEND:20250519T132000Z
LOCATION:Sala 4
UID:0ad7692fccab989576501354da734cd9
DTSTAMP:1776760471
URL;VALUE=URI:https://forumpa2025.fpaeventi.it/it-IT/sessions/104
END:VEVENT
END:VCALENDAR